BEGIN:VCALENDAR
VERSION:2.0
PRODID:-//Cairo 360 Guide to Cairo, Egypt - ECPv5.5.0.1//NONSGML v1.0//EN
CALSCALE:GREGORIAN
METHOD:PUBLISH
X-WR-CALNAME:Cairo 360 Guide to Cairo, Egypt
X-ORIGINAL-URL:https://www.cairo360.com
X-WR-CALDESC:Events for Cairo 360 Guide to Cairo, Egypt
BEGIN:VTIMEZONE
TZID:Europe/Helsinki
BEGIN:DAYLIGHT
TZOFFSETFROM:+0200
TZOFFSETTO:+0300
TZNAME:EEST
DTSTART:20250330T010000
END:DAYLIGHT
BEGIN:STANDARD
TZOFFSETFROM:+0300
TZOFFSETTO:+0200
TZNAME:EET
DTSTART:20251026T010000
END:STANDARD
END:VTIMEZONE
BEGIN:VEVENT
DTSTART;TZID=Europe/Helsinki:20251121T113000
DTEND;TZID=Europe/Helsinki:20251121T140000
DTSTAMP:20260422T223631
CREATED:20251120T172528Z
LAST-MODIFIED:20251120T172528Z
UID:1798018-1763724600-1763733600@www.cairo360.com
SUMMARY:Sol Band at ROOM New Cairo
DESCRIPTION:Catch Sol Band at Room Art Space New Cairo on Friday\, November 21. \nFor more information\, hit this link!
URL:https://www.cairo360.com/event-new/sol-band-at-room-new-cairo/
LOCATION:ROOM Art Space New Cairo\, The Spot Mall\, First New Cairo\, Cairo\, Egypt
CATEGORIES:Arts & Culture
ATTACH;FMTTYPE=image/jpeg:https://assets.cairo360.com/app/uploads/2025/11/20/FastDL.Net_583777360_17991450593853836_8661633233209908740_n.jpg
END:VEVENT
END:VCALENDAR