BEGIN:VCALENDAR
VERSION:2.0
PRODID:-//Cairo 360 Guide to Cairo, Egypt - ECPv5.5.0.1//NONSGML v1.0//EN
CALSCALE:GREGORIAN
METHOD:PUBLISH
X-WR-CALNAME:Cairo 360 Guide to Cairo, Egypt
X-ORIGINAL-URL:https://www.cairo360.com
X-WR-CALDESC:Events for Cairo 360 Guide to Cairo, Egypt
BEGIN:VTIMEZONE
TZID:Europe/Helsinki
BEGIN:DAYLIGHT
TZOFFSETFROM:+0200
TZOFFSETTO:+0300
TZNAME:EEST
DTSTART:20250330T010000
END:DAYLIGHT
BEGIN:STANDARD
TZOFFSETFROM:+0300
TZOFFSETTO:+0200
TZNAME:EET
DTSTART:20251026T010000
END:STANDARD
END:VTIMEZONE
BEGIN:VEVENT
DTSTART;TZID=Europe/Helsinki:20251104T120000
DTEND;TZID=Europe/Helsinki:20251130T000000
DTSTAMP:20260422T201811
CREATED:20251104T211630Z
LAST-MODIFIED:20251104T211630Z
UID:1797038-1762257600-1764460800@www.cairo360.com
SUMMARY:Spcial Treats at Rendez Vous Lobby Lounge & Delices Lounge and Terrace
DESCRIPTION:Savour the rich taste of the season with Hilton Cairo Grand Nile’s exclusive Pistachio Selection this November. From decadent dark chocolate mousse to creamy pistachio cheesecake\, delicate panna cotta\, and irresistible éclairs — each dessert is crafted to perfection. Pair your treat with signature beverages and enjoy a sweet escape by the Nile\, available 24 hours daily.\nFor reservations call 02 23651234 / +201153388874
URL:https://www.cairo360.com/event-new/spcial-treats-at-rendez-vous-lobby-lounge-delices-lounge-and-terrace/
LOCATION:Hilton Cairo Grand Nile
CATEGORIES:Restaurants
ATTACH;FMTTYPE=image/png:https://assets.cairo360.com/app/uploads/2025/11/04/Screen-Shot-2025-11-04-at-11.14.20-PM.png
END:VEVENT
END:VCALENDAR