BEGIN:VCALENDAR
VERSION:2.0
PRODID:-//Cairo 360 Guide to Cairo, Egypt - ECPv5.5.0.1//NONSGML v1.0//EN
CALSCALE:GREGORIAN
METHOD:PUBLISH
X-WR-CALNAME:Cairo 360 Guide to Cairo, Egypt
X-ORIGINAL-URL:https://www.cairo360.com
X-WR-CALDESC:Events for Cairo 360 Guide to Cairo, Egypt
BEGIN:VTIMEZONE
TZID:Europe/Helsinki
BEGIN:DAYLIGHT
TZOFFSETFROM:+0200
TZOFFSETTO:+0300
TZNAME:EEST
DTSTART:20240331T010000
END:DAYLIGHT
BEGIN:STANDARD
TZOFFSETFROM:+0300
TZOFFSETTO:+0200
TZNAME:EET
DTSTART:20241027T010000
END:STANDARD
END:VTIMEZONE
BEGIN:VEVENT
DTSTART;TZID=Europe/Helsinki:20240725T110000
DTEND;TZID=Europe/Helsinki:20240727T230000
DTSTAMP:20260424T024018
CREATED:20240722T193008Z
LAST-MODIFIED:20240722T193008Z
UID:1764264-1721905200-1722121200@www.cairo360.com
SUMMARY:Summer Fest Bazaar at Tivoli Dome
DESCRIPTION:Get ready for the Summer Fest Bazaar\, presented by Golden Bazaar! Happening at Tivoli Dome from July 25th to 27th\, this shopping extravaganza offers a range of must-have items and summer delights. \nFor more information\, click here.
URL:https://www.cairo360.com/event-new/summer-fest-bazaar-at-tivoli-dome/
LOCATION:Tivoli Dome
CATEGORIES:Arts & Culture,Bazaars
ATTACH;FMTTYPE=image/jpeg:https://assets.cairo360.com/app/uploads/2024/07/22/450534825_819592593605826_5633371371595518272_n.jpg
END:VEVENT
END:VCALENDAR