BEGIN:VCALENDAR
VERSION:2.0
PRODID:-//Cairo 360 Guide to Cairo, Egypt - ECPv5.5.0.1//NONSGML v1.0//EN
CALSCALE:GREGORIAN
METHOD:PUBLISH
X-WR-CALNAME:Cairo 360 Guide to Cairo, Egypt
X-ORIGINAL-URL:https://www.cairo360.com
X-WR-CALDESC:Events for Cairo 360 Guide to Cairo, Egypt
BEGIN:VTIMEZONE
TZID:Europe/Helsinki
BEGIN:DAYLIGHT
TZOFFSETFROM:+0200
TZOFFSETTO:+0300
TZNAME:EEST
DTSTART:20220327T010000
END:DAYLIGHT
BEGIN:STANDARD
TZOFFSETFROM:+0300
TZOFFSETTO:+0200
TZNAME:EET
DTSTART:20221030T010000
END:STANDARD
END:VTIMEZONE
BEGIN:VEVENT
DTSTART;TZID=Europe/Helsinki:20220813T210000
DTEND;TZID=Europe/Helsinki:20220813T230000
DTSTAMP:20260423T213114
CREATED:20220808T132330Z
LAST-MODIFIED:20220808T132330Z
UID:1713975-1660424400-1660431600@www.cairo360.com
SUMMARY:The Comedy Bunch at Room New Cairo
DESCRIPTION:The Comedy Bunch are coming to Room Art Space (New Cairo\, The Spot Mall) to take the stage\, for the 14th time! Don’t miss out on the hilarity and RSVP online. \n 
URL:https://www.cairo360.com/event-new/the-comedy-bunch-at-room-new-cairo-2/
LOCATION:ROOM Art Space New Cairo\, The Spot Mall\, First New Cairo\, Cairo\, Egypt
CATEGORIES:Stand-Up Comedy Nights
ATTACH;FMTTYPE=image/jpeg:https://assets.cairo360.com/app/uploads/2022/08/08/297714742_467781565353899_3886018811088647575_n.jpg
END:VEVENT
END:VCALENDAR