BEGIN:VCALENDAR
VERSION:2.0
PRODID:-//Cairo 360 Guide to Cairo, Egypt - ECPv5.5.0.1//NONSGML v1.0//EN
CALSCALE:GREGORIAN
METHOD:PUBLISH
X-WR-CALNAME:Cairo 360 Guide to Cairo, Egypt
X-ORIGINAL-URL:https://www.cairo360.com
X-WR-CALDESC:Events for Cairo 360 Guide to Cairo, Egypt
BEGIN:VTIMEZONE
TZID:Europe/Helsinki
BEGIN:DAYLIGHT
TZOFFSETFROM:+0200
TZOFFSETTO:+0300
TZNAME:EEST
DTSTART:20260329T010000
END:DAYLIGHT
BEGIN:STANDARD
TZOFFSETFROM:+0300
TZOFFSETTO:+0200
TZNAME:EET
DTSTART:20261025T010000
END:STANDARD
END:VTIMEZONE
BEGIN:VEVENT
DTSTART;TZID=Europe/Helsinki:20260224T200000
DTEND;TZID=Europe/Helsinki:20260301T010000
DTSTAMP:20260424T164416
CREATED:20260226T003512Z
LAST-MODIFIED:20260226T003512Z
UID:1802965-1771963200-1772326800@www.cairo360.com
SUMMARY:The Garden Market at Layali Cairo West Ramadan Tent
DESCRIPTION:Enjoy a unique boutique market atmosphere at The Garden Market\, happening at Layali Cairo West Ramadan Tent from February 24 to 28. \nFor more information\, hit this link!
URL:https://www.cairo360.com/event-new/the-garden-market-at-layali-cairo-west-ramadan-tent/
LOCATION:Layali Cairo West Ramadan Tent
CATEGORIES:Arts & Culture
ATTACH;FMTTYPE=image/jpeg:https://assets.cairo360.com/app/uploads/2026/02/26/FastDl.dev_629893514_1435688981427520_8879249325007393300_n.jpg
END:VEVENT
END:VCALENDAR