BEGIN:VCALENDAR
VERSION:2.0
PRODID:-//Cairo 360 Guide to Cairo, Egypt - ECPv5.5.0.1//NONSGML v1.0//EN
CALSCALE:GREGORIAN
METHOD:PUBLISH
X-WR-CALNAME:Cairo 360 Guide to Cairo, Egypt
X-ORIGINAL-URL:https://www.cairo360.com
X-WR-CALDESC:Events for Cairo 360 Guide to Cairo, Egypt
BEGIN:VTIMEZONE
TZID:Europe/Helsinki
BEGIN:DAYLIGHT
TZOFFSETFROM:+0200
TZOFFSETTO:+0300
TZNAME:EEST
DTSTART:20240331T010000
END:DAYLIGHT
BEGIN:STANDARD
TZOFFSETFROM:+0300
TZOFFSETTO:+0200
TZNAME:EET
DTSTART:20241027T010000
END:STANDARD
END:VTIMEZONE
BEGIN:VEVENT
DTSTART;TZID=Europe/Helsinki:20240726T210000
DTEND;TZID=Europe/Helsinki:20240726T233000
DTSTAMP:20260421T145822
CREATED:20240722T173745Z
LAST-MODIFIED:20240722T173745Z
UID:1764228-1722027600-1722036600@www.cairo360.com
SUMMARY:The Happiness Debate: El Daheeh\, Saint Levant X Anas Bukhash & Wael Gassar at The Lighthouse Beach Theatre
DESCRIPTION:Get ready for a unique evening at The Happiness Debate! Join Anas Bukhash and El Da7ee7 as they delve into the concept of happiness in an engaging discussion\, featuring the international Palestinian rapper Saint Levant. To top it off\, enjoy an exclusive beachside performance by superstar Wael Gassar at The Lighthouse Beach Theatre on July 26th. \nFor more information\, click here.
URL:https://www.cairo360.com/event-new/the-happiness-debate-el-daheeh-saint-levant-x-anas-bukhash-wael-gassar-at-the-lighthouse-beach-theatre/
LOCATION:The Lighthouse Beach Theatre
CATEGORIES:Arts & Culture,Music,Nightlife
ATTACH;FMTTYPE=image/jpeg:https://assets.cairo360.com/app/uploads/2024/07/22/451769647_1047063333603252_8622917122176051561_n.jpg
END:VEVENT
END:VCALENDAR