BEGIN:VCALENDAR
VERSION:2.0
PRODID:-//Cairo 360 Guide to Cairo, Egypt - ECPv5.5.0.1//NONSGML v1.0//EN
CALSCALE:GREGORIAN
METHOD:PUBLISH
X-WR-CALNAME:Cairo 360 Guide to Cairo, Egypt
X-ORIGINAL-URL:https://www.cairo360.com
X-WR-CALDESC:Events for Cairo 360 Guide to Cairo, Egypt
BEGIN:VTIMEZONE
TZID:Europe/Helsinki
BEGIN:DAYLIGHT
TZOFFSETFROM:+0200
TZOFFSETTO:+0300
TZNAME:EEST
DTSTART:20260329T010000
END:DAYLIGHT
BEGIN:STANDARD
TZOFFSETFROM:+0300
TZOFFSETTO:+0200
TZNAME:EET
DTSTART:20261025T010000
END:STANDARD
END:VTIMEZONE
BEGIN:VEVENT
DTSTART;TZID=Europe/Helsinki:20260130T190000
DTEND;TZID=Europe/Helsinki:20260130T230000
DTSTAMP:20260420T053819
CREATED:20260127T142510Z
LAST-MODIFIED:20260127T142510Z
UID:1801571-1769799600-1769814000@www.cairo360.com
SUMMARY:The Trio at The Hive Mall
DESCRIPTION:Spend a night full of laughter with The Trio at The Hive Mall on Friday\, January 30. \nFor more information\, hit this link!
URL:https://www.cairo360.com/event-new/the-trio-at-the-hive-mall/
LOCATION:The Hive Mall
CATEGORIES:Arts & Culture
ATTACH;FMTTYPE=image/jpeg:https://assets.cairo360.com/app/uploads/2026/01/27/The-Trio-Stand-up-Interactive-Comedy-Show-jan-30.jpg
END:VEVENT
END:VCALENDAR