BEGIN:VCALENDAR
VERSION:2.0
PRODID:-//Cairo 360 Guide to Cairo, Egypt - ECPv5.5.0.1//NONSGML v1.0//EN
CALSCALE:GREGORIAN
METHOD:PUBLISH
X-WR-CALNAME:Cairo 360 Guide to Cairo, Egypt
X-ORIGINAL-URL:https://www.cairo360.com
X-WR-CALDESC:Events for Cairo 360 Guide to Cairo, Egypt
BEGIN:VTIMEZONE
TZID:Europe/Helsinki
BEGIN:DAYLIGHT
TZOFFSETFROM:+0200
TZOFFSETTO:+0300
TZNAME:EEST
DTSTART:20260329T010000
END:DAYLIGHT
BEGIN:STANDARD
TZOFFSETFROM:+0300
TZOFFSETTO:+0200
TZNAME:EET
DTSTART:20261025T010000
END:STANDARD
END:VTIMEZONE
BEGIN:VEVENT
DTSTART;TZID=Europe/Helsinki:20260206T210000
DTEND;TZID=Europe/Helsinki:20260206T230000
DTSTAMP:20260422T193322
CREATED:20260204T220147Z
LAST-MODIFIED:20260204T220226Z
UID:1801877-1770411600-1770418800@www.cairo360.com
SUMMARY:Voices of the Century at Opera Hall\, City of Arts and Culture\, New Capital
DESCRIPTION:A night of operatic greatness awaits with José Carreras and Plácido Domingo in Voices of the Century\, joined by Christina Poulitsi\, Fatma Said\, and a full orchestra at the Opera Hall in City of Arts and Culture\, New Capital on February 6\, 2026. \nFor more information\, hit this link!
URL:https://www.cairo360.com/event-new/voices-of-the-century-at-city-of-arts-and-culture-new-capital/
LOCATION:Opera Hall in City of Arts and Culture\, New Capital
CATEGORIES:Arts & Culture
ATTACH;FMTTYPE=image/png:https://assets.cairo360.com/app/uploads/2026/02/04/voices-of-the-century-feb-6.png
END:VEVENT
END:VCALENDAR